BEGIN:VCALENDAR
VERSION:2.0
PRODID:-//Christian Standard - ECPv6.15.20//NONSGML v1.0//EN
CALSCALE:GREGORIAN
METHOD:PUBLISH
X-WR-CALNAME:Christian Standard
X-ORIGINAL-URL:https://christianstandard.com
X-WR-CALDESC:Events for Christian Standard
REFRESH-INTERVAL;VALUE=DURATION:PT1H
X-Robots-Tag:noindex
X-PUBLISHED-TTL:PT1H
BEGIN:VTIMEZONE
TZID:America/Chicago
BEGIN:DAYLIGHT
TZOFFSETFROM:-0600
TZOFFSETTO:-0500
TZNAME:CDT
DTSTART:20250309T080000
END:DAYLIGHT
BEGIN:STANDARD
TZOFFSETFROM:-0500
TZOFFSETTO:-0600
TZNAME:CST
DTSTART:20251102T070000
END:STANDARD
BEGIN:DAYLIGHT
TZOFFSETFROM:-0600
TZOFFSETTO:-0500
TZNAME:CDT
DTSTART:20260308T080000
END:DAYLIGHT
BEGIN:STANDARD
TZOFFSETFROM:-0500
TZOFFSETTO:-0600
TZNAME:CST
DTSTART:20261101T070000
END:STANDARD
BEGIN:DAYLIGHT
TZOFFSETFROM:-0600
TZOFFSETTO:-0500
TZNAME:CDT
DTSTART:20270314T080000
END:DAYLIGHT
BEGIN:STANDARD
TZOFFSETFROM:-0500
TZOFFSETTO:-0600
TZNAME:CST
DTSTART:20271107T070000
END:STANDARD
END:VTIMEZONE
BEGIN:VEVENT
DTSTART;VALUE=DATE:20260807
DTEND;VALUE=DATE:20260809
DTSTAMP:20260419T183526
CREATED:20260407T031824Z
LAST-MODIFIED:20260407T031824Z
UID:127391-1786060800-1786233599@christianstandard.com
SUMMARY:Uncommon Men’s Conference 2026 Quincy
DESCRIPTION:Uncommon Men’s Conference is a men’s event hosted locally by participating churches across the country. Each conference is designed to encourage men through biblical teaching\, fellowship\, and practical challenge for faithful Christian living. Registration is managed directly through the local host site.
URL:https://christianstandard.com/event/uncommon-mens-conference-2026-quincy/
LOCATION:Crossing Church\, 150 S 48th St\, Quincy\, IL\, 62305\, United States
CATEGORIES:Men's Conference
ATTACH;FMTTYPE=image/jpeg:https://christianstandard.com/wp-content/uploads/2026/04/Uncommon-Mens-Conference-2026.jpg
ORGANIZER;CN="Uncommon Men's Conference":MAILTO:info@chooseuncommon.com
END:VEVENT
END:VCALENDAR